Package: GlobalAncova Version: 4.22.0 Command: /home/biocbuild/R/R-beta-2024-04-15_r86425/bin/R CMD build --keep-empty-dirs --no-resave-data GlobalAncova StartedAt: 2024-05-09 00:38:23 -0000 (Thu, 09 May 2024) EndedAt: 2024-05-09 00:51:21 -0000 (Thu, 09 May 2024) EllapsedTime: 778.0 seconds RetCode: 0 Status: OK PackageFile: GlobalAncova_4.22.0.tar.gz PackageFileSize: 1.189 MiB