Package: GlobalAncova Version: 4.22.0 Command: /Library/Frameworks/R.framework/Resources/bin/R CMD build --keep-empty-dirs --no-resave-data GlobalAncova StartedAt: 2024-06-09 22:16:35 -0400 (Sun, 09 Jun 2024) EndedAt: 2024-06-09 22:25:35 -0400 (Sun, 09 Jun 2024) EllapsedTime: 540.6 seconds RetCode: 0 Status: OK PackageFile: GlobalAncova_4.22.0.tar.gz PackageFileSize: 1.207 MiB