Package: GloScope Version: 1.2.1 Command: E:\biocbuild\bbs-3.19-bioc\R\bin\R.exe CMD INSTALL GloScope StartedAt: 2024-10-16 16:24:28 -0400 (Wed, 16 Oct 2024) EndedAt: 2024-10-16 16:24:55 -0400 (Wed, 16 Oct 2024) EllapsedTime: 27.6 seconds RetCode: 0 Status: OK