Package: GloScope Version: 1.2.1 Command: /home/biocbuild/bbs-3.19-bioc/R/bin/R CMD INSTALL GloScope StartedAt: 2024-10-16 16:01:36 -0400 (Wed, 16 Oct 2024) EndedAt: 2024-10-16 16:01:59 -0400 (Wed, 16 Oct 2024) EllapsedTime: 23.7 seconds RetCode: 0 Status: OK