Package: GloScope Version: 1.2.1 Command: /home/biocbuild/bbs-3.19-bioc/R/bin/R CMD build --keep-empty-dirs --no-resave-data GloScope StartedAt: 2024-10-16 18:45:29 -0400 (Wed, 16 Oct 2024) EndedAt: 2024-10-16 18:46:21 -0400 (Wed, 16 Oct 2024) EllapsedTime: 52.1 seconds RetCode: 0 Status: OK PackageFile: GloScope_1.2.1.tar.gz PackageFileSize: 2.611 MiB