Package: GloScope Version: 1.2.1 Command: /Library/Frameworks/R.framework/Resources/bin/R CMD check --install=check:GloScope.install-out.txt --library=/Library/Frameworks/R.framework/Resources/library --no-vignettes --timings GloScope_1.2.1.tar.gz StartedAt: 2024-10-17 06:10:33 -0400 (Thu, 17 Oct 2024) EndedAt: 2024-10-17 06:31:42 -0400 (Thu, 17 Oct 2024) EllapsedTime: 1269.3 seconds RetCode: 0 Status: OK CheckDir: GloScope.Rcheck Warnings: 0