Package: GloScope Version: 1.2.0 Command: /home/biocbuild/R/R-beta-2024-04-15_r86425/bin/R CMD INSTALL GloScope StartedAt: 2024-05-08 20:18:40 -0000 (Wed, 08 May 2024) EndedAt: 2024-05-08 20:19:14 -0000 (Wed, 08 May 2024) EllapsedTime: 34.2 seconds RetCode: 0 Status: OK