Package: GloScope Version: 1.2.0 Command: /home/biocbuild/R/R-beta-2024-04-15_r86425/bin/R CMD build --keep-empty-dirs --no-resave-data GloScope StartedAt: 2024-05-09 00:39:23 -0000 (Thu, 09 May 2024) EndedAt: 2024-05-09 00:40:34 -0000 (Thu, 09 May 2024) EllapsedTime: 71.1 seconds RetCode: 0 Status: OK PackageFile: GloScope_1.2.0.tar.gz PackageFileSize: 2.591 MiB