Package: GloScope Version: 1.2.1 Command: /Library/Frameworks/R.framework/Resources/bin/R CMD INSTALL GloScope StartedAt: 2024-10-16 16:23:17 -0400 (Wed, 16 Oct 2024) EndedAt: 2024-10-16 16:23:47 -0400 (Wed, 16 Oct 2024) EllapsedTime: 29.1 seconds RetCode: 0 Status: OK