Package: GloScope Version: 1.2.1 Command: /Library/Frameworks/R.framework/Resources/bin/R CMD build --keep-empty-dirs --no-resave-data GloScope StartedAt: 2024-10-17 01:29:07 -0400 (Thu, 17 Oct 2024) EndedAt: 2024-10-17 01:30:14 -0400 (Thu, 17 Oct 2024) EllapsedTime: 67.5 seconds RetCode: 0 Status: OK PackageFile: GloScope_1.2.1.tar.gz PackageFileSize: 2.634 MiB