Package: Glimma Version: 2.14.0 Command: E:\biocbuild\bbs-3.19-bioc\R\bin\R.exe CMD INSTALL Glimma StartedAt: 2024-10-16 16:37:46 -0400 (Wed, 16 Oct 2024) EndedAt: 2024-10-16 16:39:21 -0400 (Wed, 16 Oct 2024) EllapsedTime: 94.8 seconds RetCode: 0 Status: OK