Package: Glimma Version: 2.14.0 Command: chmod a+r Glimma -R && E:\biocbuild\bbs-3.19-bioc\R\bin\R.exe CMD build --keep-empty-dirs --no-resave-data Glimma StartedAt: 2024-10-16 19:28:50 -0400 (Wed, 16 Oct 2024) EndedAt: 2024-10-16 19:39:56 -0400 (Wed, 16 Oct 2024) EllapsedTime: 666.2 seconds RetCode: 0 Status: OK PackageFile: Glimma_2.14.0.tar.gz PackageFileSize: 11.35 MiB