Package: Glimma Version: 2.14.0 Command: F:\biocbuild\bbs-3.19-bioc\R\bin\R.exe CMD check --no-multiarch --install=check:Glimma.install-out.txt --library=F:\biocbuild\bbs-3.19-bioc\R\library --no-vignettes --timings Glimma_2.14.0.tar.gz StartedAt: 2024-06-27 02:12:52 -0400 (Thu, 27 Jun 2024) EndedAt: 2024-06-27 02:19:42 -0400 (Thu, 27 Jun 2024) EllapsedTime: 409.8 seconds RetCode: 0 Status: WARNINGS CheckDir: Glimma.Rcheck Warnings: 1