Package: Glimma Version: 2.14.0 Command: rm -rf Glimma.buildbin-libdir && mkdir Glimma.buildbin-libdir && F:\biocbuild\bbs-3.19-bioc\R\bin\R.exe CMD INSTALL --build --library=Glimma.buildbin-libdir Glimma_2.14.0.tar.gz StartedAt: 2024-06-27 08:18:02 -0400 (Thu, 27 Jun 2024) EndedAt: 2024-06-27 08:18:56 -0400 (Thu, 27 Jun 2024) EllapsedTime: 53.7 seconds RetCode: 0 Status: OK PackageFile: Glimma_2.14.0.zip PackageFileSize: 9.003 MiB