Package: Glimma Version: 2.14.0 Command: /Library/Frameworks/R.framework/Resources/bin/R CMD build --keep-empty-dirs --no-resave-data Glimma StartedAt: 2024-10-16 19:38:07 -0400 (Wed, 16 Oct 2024) EndedAt: 2024-10-16 20:00:01 -0400 (Wed, 16 Oct 2024) EllapsedTime: 1313.7 seconds RetCode: 0 Status: OK PackageFile: Glimma_2.14.0.tar.gz PackageFileSize: 11.35 MiB