Package: Glimma Version: 2.14.0 Command: /Library/Frameworks/R.framework/Resources/bin/R CMD build --keep-empty-dirs --no-resave-data Glimma StartedAt: 2024-06-09 16:49:01 -0400 (Sun, 09 Jun 2024) EndedAt: 2024-06-09 16:57:18 -0400 (Sun, 09 Jun 2024) EllapsedTime: 496.7 seconds RetCode: 0 Status: OK PackageFile: Glimma_2.14.0.tar.gz PackageFileSize: 11.35 MiB