Package: Glimma Version: 2.14.0 Command: /Library/Frameworks/R.framework/Resources/bin/R CMD INSTALL Glimma StartedAt: 2024-06-09 16:15:59 -0400 (Sun, 09 Jun 2024) EndedAt: 2024-06-09 16:16:44 -0400 (Sun, 09 Jun 2024) EllapsedTime: 44.5 seconds RetCode: 0 Status: OK