Package: Glimma Version: 2.14.0 Command: /Library/Frameworks/R.framework/Resources/bin/R CMD check --install=check:Glimma.install-out.txt --library=/Library/Frameworks/R.framework/Resources/library --no-vignettes --timings Glimma_2.14.0.tar.gz StartedAt: 2024-06-10 17:20:46 -0400 (Mon, 10 Jun 2024) EndedAt: 2024-06-10 17:29:55 -0400 (Mon, 10 Jun 2024) EllapsedTime: 548.7 seconds RetCode: 0 Status: WARNINGS CheckDir: Glimma.Rcheck Warnings: 1