Package: Glimma Version: 2.14.0 Command: /Library/Frameworks/R.framework/Resources/bin/R CMD INSTALL Glimma StartedAt: 2024-10-16 17:10:45 -0400 (Wed, 16 Oct 2024) EndedAt: 2024-10-16 17:11:17 -0400 (Wed, 16 Oct 2024) EllapsedTime: 32.5 seconds RetCode: 0 Status: OK