Package: Glimma Version: 2.14.0 Maintainer: Shian Su MaintainerEmail: su.s at wehi.edu.au git_url: https://git.bioconductor.org/packages/Glimma git_branch: RELEASE_3_19 git_last_commit: 498f03d git_last_commit_date: 2024-04-30 10:50:10 -0400 (Tue, 30 Apr 2024)