Package: GladiaTOX Version: 1.20.0 Command: E:\biocbuild\bbs-3.19-bioc\R\bin\R.exe CMD INSTALL GladiaTOX StartedAt: 2024-10-16 16:11:09 -0400 (Wed, 16 Oct 2024) EndedAt: 2024-10-16 16:11:53 -0400 (Wed, 16 Oct 2024) EllapsedTime: 44.1 seconds RetCode: 0 Status: OK