Package: GladiaTOX Version: 1.20.0 Command: chmod a+r GladiaTOX -R && E:\biocbuild\bbs-3.19-bioc\R\bin\R.exe CMD build --keep-empty-dirs --no-resave-data GladiaTOX StartedAt: 2024-10-16 19:28:31 -0400 (Wed, 16 Oct 2024) EndedAt: 2024-10-16 19:34:09 -0400 (Wed, 16 Oct 2024) EllapsedTime: 338.3 seconds RetCode: 0 Status: OK PackageFile: GladiaTOX_1.20.0.tar.gz PackageFileSize: 2.656 MiB