Package: GladiaTOX Version: 1.20.0 Command: rm -rf GladiaTOX.buildbin-libdir && mkdir GladiaTOX.buildbin-libdir && E:\biocbuild\bbs-3.19-bioc\R\bin\R.exe CMD INSTALL --build --library=GladiaTOX.buildbin-libdir GladiaTOX_1.20.0.tar.gz StartedAt: 2024-10-17 07:53:43 -0400 (Thu, 17 Oct 2024) EndedAt: 2024-10-17 07:54:41 -0400 (Thu, 17 Oct 2024) EllapsedTime: 57.5 seconds RetCode: 0 Status: OK PackageFile: GladiaTOX_1.20.0.zip PackageFileSize: 2.891 MiB