Package: GladiaTOX Version: 1.20.0 Command: /home/biocbuild/bbs-3.19-bioc/R/bin/R CMD check --install=check:GladiaTOX.install-out.txt --library=/home/biocbuild/bbs-3.19-bioc/R/site-library --timings GladiaTOX_1.20.0.tar.gz StartedAt: 2024-10-17 00:58:21 -0400 (Thu, 17 Oct 2024) EndedAt: 2024-10-17 01:03:18 -0400 (Thu, 17 Oct 2024) EllapsedTime: 296.6 seconds RetCode: 0 Status: OK CheckDir: GladiaTOX.Rcheck Warnings: 0