Package: GladiaTOX Version: 1.20.0 Command: rm -rf GladiaTOX.buildbin-libdir && mkdir GladiaTOX.buildbin-libdir && /Users/biocbuild/BBS/utils/build-universal.sh GladiaTOX_1.20.0.tar.gz /Library/Frameworks/R.framework/Resources/bin/R GladiaTOX.buildbin-libdir StartedAt: 2024-10-17 16:16:52 -0400 (Thu, 17 Oct 2024) EndedAt: 2024-10-17 16:17:30 -0400 (Thu, 17 Oct 2024) EllapsedTime: 38.0 seconds RetCode: 0 Status: OK PackageFile: GladiaTOX_1.20.0.tgz PackageFileSize: 4.191 MiB