Package: GladiaTOX Version: 1.20.0 Command: /Library/Frameworks/R.framework/Resources/bin/R CMD INSTALL GladiaTOX StartedAt: 2024-10-16 16:12:39 -0400 (Wed, 16 Oct 2024) EndedAt: 2024-10-16 16:12:53 -0400 (Wed, 16 Oct 2024) EllapsedTime: 14.1 seconds RetCode: 0 Status: OK