Package: GeoTcgaData Version: 2.4.0 Command: E:\biocbuild\bbs-3.19-bioc\R\bin\R.exe CMD INSTALL GeoTcgaData StartedAt: 2024-10-16 17:00:26 -0400 (Wed, 16 Oct 2024) EndedAt: 2024-10-16 17:01:27 -0400 (Wed, 16 Oct 2024) EllapsedTime: 60.6 seconds RetCode: 0 Status: OK