Package: GeoTcgaData Version: 2.4.0 Command: rm -rf GeoTcgaData.buildbin-libdir && mkdir GeoTcgaData.buildbin-libdir && E:\biocbuild\bbs-3.19-bioc\R\bin\R.exe CMD INSTALL --build --library=GeoTcgaData.buildbin-libdir GeoTcgaData_2.4.0.tar.gz StartedAt: 2024-10-17 07:52:36 -0400 (Thu, 17 Oct 2024) EndedAt: 2024-10-17 07:54:37 -0400 (Thu, 17 Oct 2024) EllapsedTime: 121.9 seconds RetCode: 0 Status: OK PackageFile: GeoTcgaData_2.4.0.zip PackageFileSize: 3.449 MiB