Package: GeoTcgaData Version: 2.4.0 Command: /Library/Frameworks/R.framework/Resources/bin/R CMD INSTALL GeoTcgaData StartedAt: 2024-10-16 16:21:22 -0400 (Wed, 16 Oct 2024) EndedAt: 2024-10-16 16:22:39 -0400 (Wed, 16 Oct 2024) EllapsedTime: 76.9 seconds RetCode: 0 Status: OK