Package: GeoTcgaData Version: 2.4.0 Command: /Library/Frameworks/R.framework/Resources/bin/R CMD build --keep-empty-dirs --no-resave-data GeoTcgaData StartedAt: 2024-10-16 19:34:08 -0400 (Wed, 16 Oct 2024) EndedAt: 2024-10-16 19:36:40 -0400 (Wed, 16 Oct 2024) EllapsedTime: 152.1 seconds RetCode: 0 Status: OK PackageFile: GeoTcgaData_2.4.0.tar.gz PackageFileSize: 3.318 MiB