Package: GeoTcgaData Version: 2.4.0 Command: /Library/Frameworks/R.framework/Resources/bin/R CMD check --install=check:GeoTcgaData.install-out.txt --library=/Library/Frameworks/R.framework/Resources/library --no-vignettes --timings GeoTcgaData_2.4.0.tar.gz StartedAt: 2024-10-17 23:09:14 -0400 (Thu, 17 Oct 2024) EndedAt: 2024-10-17 23:13:31 -0400 (Thu, 17 Oct 2024) EllapsedTime: 257.3 seconds RetCode: 0 Status: OK CheckDir: GeoTcgaData.Rcheck Warnings: 0