Package: GeoDiff Version: 1.10.0 Command: /Library/Frameworks/R.framework/Resources/bin/R CMD INSTALL GeoDiff StartedAt: 2024-10-16 16:52:04 -0400 (Wed, 16 Oct 2024) EndedAt: 2024-10-16 16:54:42 -0400 (Wed, 16 Oct 2024) EllapsedTime: 158.1 seconds RetCode: 0 Status: OK