Package: GeoDiff Version: 1.10.0 Command: /Library/Frameworks/R.framework/Resources/bin/R CMD build --keep-empty-dirs --no-resave-data GeoDiff StartedAt: 2024-06-09 22:08:28 -0400 (Sun, 09 Jun 2024) EndedAt: 2024-06-09 22:13:10 -0400 (Sun, 09 Jun 2024) EllapsedTime: 282.3 seconds RetCode: 0 Status: OK PackageFile: GeoDiff_1.10.0.tar.gz PackageFileSize: 4.579 MiB