Package: GeoDiff Version: 1.10.0 Maintainer: Nicole Ortogero MaintainerEmail: nortogero at nanostring.com git_url: https://git.bioconductor.org/packages/GeoDiff git_branch: RELEASE_3_19 git_last_commit: ac42d5f git_last_commit_date: 2024-04-30 11:38:43 -0400 (Tue, 30 Apr 2024)