Package: GenomicTuples Version: 1.38.0 Command: rm -rf GenomicTuples.buildbin-libdir && mkdir GenomicTuples.buildbin-libdir && E:\biocbuild\bbs-3.19-bioc\R\bin\R.exe CMD INSTALL --build --library=GenomicTuples.buildbin-libdir GenomicTuples_1.38.0.tar.gz StartedAt: 2024-10-17 07:52:10 -0400 (Thu, 17 Oct 2024) EndedAt: 2024-10-17 07:53:12 -0400 (Thu, 17 Oct 2024) EllapsedTime: 62.1 seconds RetCode: 0 Status: OK PackageFile: GenomicTuples_1.38.0.zip PackageFileSize: 1.19 MiB