Package: GenomicTuples Version: 1.38.0 Command: rm -rf GenomicTuples.buildbin-libdir && mkdir GenomicTuples.buildbin-libdir && /Users/biocbuild/BBS/utils/build-universal.sh GenomicTuples_1.38.0.tar.gz /Library/Frameworks/R.framework/Resources/bin/R GenomicTuples.buildbin-libdir StartedAt: 2024-10-17 16:14:56 -0400 (Thu, 17 Oct 2024) EndedAt: 2024-10-17 16:16:13 -0400 (Thu, 17 Oct 2024) EllapsedTime: 77.0 seconds RetCode: 0 Status: OK PackageFile: GenomicTuples_1.38.0.tgz PackageFileSize: 898.1 KiB