Package: GenomicScores Version: 2.16.0 Command: /home/biocbuild/R/R-beta-2024-04-15_r86425/bin/R CMD INSTALL GenomicScores StartedAt: 2024-05-08 20:22:59 -0000 (Wed, 08 May 2024) EndedAt: 2024-05-08 20:23:42 -0000 (Wed, 08 May 2024) EllapsedTime: 43.7 seconds RetCode: 0 Status: OK