Package: GenomicScores Version: 2.16.0 Command: /home/biocbuild/R/R-beta-2024-04-15_r86425/bin/R CMD check --install=check:GenomicScores.install-out.txt --library=/home/biocbuild/R/R-beta-2024-04-15_r86425/site-library --no-vignettes --timings GenomicScores_2.16.0.tar.gz StartedAt: 2024-05-09 07:44:23 -0000 (Thu, 09 May 2024) EndedAt: 2024-05-09 07:49:10 -0000 (Thu, 09 May 2024) EllapsedTime: 287.4 seconds RetCode: 0 Status: OK CheckDir: GenomicScores.Rcheck Warnings: 0