Package: GenomicScores Version: 2.16.0 Command: /home/biocbuild/R/R-beta-2024-04-15_r86425/bin/R CMD build --keep-empty-dirs --no-resave-data GenomicScores StartedAt: 2024-05-09 00:31:58 -0000 (Thu, 09 May 2024) EndedAt: 2024-05-09 00:34:41 -0000 (Thu, 09 May 2024) EllapsedTime: 163.2 seconds RetCode: 0 Status: OK PackageFile: GenomicScores_2.16.0.tar.gz PackageFileSize: 1.489 MiB