Package: GenomicScores Version: 2.16.0 Command: /Library/Frameworks/R.framework/Resources/bin/R CMD check --install=check:GenomicScores.install-out.txt --library=/Library/Frameworks/R.framework/Resources/library --no-vignettes --timings GenomicScores_2.16.0.tar.gz StartedAt: 2024-10-17 22:58:02 -0400 (Thu, 17 Oct 2024) EndedAt: 2024-10-17 23:02:46 -0400 (Thu, 17 Oct 2024) EllapsedTime: 283.9 seconds RetCode: 0 Status: OK CheckDir: GenomicScores.Rcheck Warnings: 0