Package: GenomicRanges Version: 1.56.2 Command: E:\biocbuild\bbs-3.19-bioc\R\bin\R.exe CMD INSTALL GenomicRanges StartedAt: 2024-10-16 16:09:22 -0400 (Wed, 16 Oct 2024) EndedAt: 2024-10-16 16:11:25 -0400 (Wed, 16 Oct 2024) EllapsedTime: 123.2 seconds RetCode: 0 Status: OK