Package: GenomicRanges Version: 1.56.2 Command: E:\biocbuild\bbs-3.19-bioc\R\bin\R.exe CMD check --no-multiarch --install=check:GenomicRanges.install-out.txt --library=E:\biocbuild\bbs-3.19-bioc\R\library --no-vignettes --timings GenomicRanges_1.56.2.tar.gz StartedAt: 2024-10-17 01:49:05 -0400 (Thu, 17 Oct 2024) EndedAt: 2024-10-17 01:54:07 -0400 (Thu, 17 Oct 2024) EllapsedTime: 301.9 seconds RetCode: 0 Status: OK CheckDir: GenomicRanges.Rcheck Warnings: 0