Package: GenomicRanges Version: 1.56.2 Command: chmod a+r GenomicRanges -R && E:\biocbuild\bbs-3.19-bioc\R\bin\R.exe CMD build --keep-empty-dirs --no-resave-data GenomicRanges StartedAt: 2024-10-16 19:24:10 -0400 (Wed, 16 Oct 2024) EndedAt: 2024-10-16 19:29:00 -0400 (Wed, 16 Oct 2024) EllapsedTime: 290.7 seconds RetCode: 0 Status: OK PackageFile: GenomicRanges_1.56.2.tar.gz PackageFileSize: 1.08 MiB