Package: GenomicRanges Version: 1.56.2 Command: rm -rf GenomicRanges.buildbin-libdir && mkdir GenomicRanges.buildbin-libdir && E:\biocbuild\bbs-3.19-bioc\R\bin\R.exe CMD INSTALL --build --library=GenomicRanges.buildbin-libdir GenomicRanges_1.56.2.tar.gz StartedAt: 2024-10-17 07:52:01 -0400 (Thu, 17 Oct 2024) EndedAt: 2024-10-17 07:54:36 -0400 (Thu, 17 Oct 2024) EllapsedTime: 154.5 seconds RetCode: 0 Status: OK PackageFile: GenomicRanges_1.56.2.zip PackageFileSize: 2.068 MiB