Package: GenomicRanges Version: 1.56.1 Command: F:\biocbuild\bbs-3.19-bioc\R\bin\R.exe CMD check --no-multiarch --install=check:GenomicRanges.install-out.txt --library=F:\biocbuild\bbs-3.19-bioc\R\library --no-vignettes --timings GenomicRanges_1.56.1.tar.gz StartedAt: 2024-06-27 02:00:51 -0400 (Thu, 27 Jun 2024) EndedAt: 2024-06-27 02:05:49 -0400 (Thu, 27 Jun 2024) EllapsedTime: 297.4 seconds RetCode: 0 Status: OK CheckDir: GenomicRanges.Rcheck Warnings: 0