Package: GenomicRanges Version: 1.56.2 Command: /home/biocbuild/bbs-3.19-bioc/R/bin/R CMD check --install=check:GenomicRanges.install-out.txt --library=/home/biocbuild/bbs-3.19-bioc/R/site-library --timings GenomicRanges_1.56.2.tar.gz StartedAt: 2024-10-17 00:48:38 -0400 (Thu, 17 Oct 2024) EndedAt: 2024-10-17 00:55:52 -0400 (Thu, 17 Oct 2024) EllapsedTime: 433.8 seconds RetCode: 0 Status: OK CheckDir: GenomicRanges.Rcheck Warnings: 0