Package: GenomicRanges Version: 1.56.2 Command: /Library/Frameworks/R.framework/Resources/bin/R CMD build --keep-empty-dirs --no-resave-data GenomicRanges StartedAt: 2024-10-16 19:32:15 -0400 (Wed, 16 Oct 2024) EndedAt: 2024-10-16 19:39:37 -0400 (Wed, 16 Oct 2024) EllapsedTime: 441.5 seconds RetCode: 0 Status: OK PackageFile: GenomicRanges_1.56.2.tar.gz PackageFileSize: 1.302 MiB