Package: GenomicRanges Version: 1.56.2 Command: /Library/Frameworks/R.framework/Resources/bin/R CMD INSTALL GenomicRanges StartedAt: 2024-10-16 15:51:24 -0400 (Wed, 16 Oct 2024) EndedAt: 2024-10-16 15:51:50 -0400 (Wed, 16 Oct 2024) EllapsedTime: 26.2 seconds RetCode: 0 Status: OK