Package: GenomicRanges Version: 1.56.2 Command: /Library/Frameworks/R.framework/Resources/bin/R CMD check --install=check:GenomicRanges.install-out.txt --library=/Library/Frameworks/R.framework/Resources/library --no-vignettes --timings GenomicRanges_1.56.2.tar.gz StartedAt: 2024-10-17 22:57:32 -0400 (Thu, 17 Oct 2024) EndedAt: 2024-10-17 23:02:28 -0400 (Thu, 17 Oct 2024) EllapsedTime: 296.3 seconds RetCode: 0 Status: OK CheckDir: GenomicRanges.Rcheck Warnings: 0