Package: GenomicPlot Version: 1.2.4 Command: E:\biocbuild\bbs-3.19-bioc\R\bin\R.exe CMD check --no-multiarch --install=check:GenomicPlot.install-out.txt --library=E:\biocbuild\bbs-3.19-bioc\R\library --no-vignettes --timings GenomicPlot_1.2.4.tar.gz StartedAt: 2024-10-17 01:48:40 -0400 (Thu, 17 Oct 2024) EndedAt: 2024-10-17 02:26:45 -0400 (Thu, 17 Oct 2024) EllapsedTime: 2284.8 seconds RetCode: 0 Status: OK CheckDir: GenomicPlot.Rcheck Warnings: 0